BEGIN:VCALENDAR
VERSION:2.0
PRODID:-//wp-events-plugin.com//7.2.3.1//EN
TZID:America/New_York
X-WR-TIMEZONE:America/New_York
BEGIN:VEVENT
UID:40@boilerlaw.org
DTSTART;TZID=America/New_York:20251018T140000
DTEND;TZID=America/New_York:20280916T150000
DTSTAMP:20251010T032509Z
URL:https://www.boilerlaw.org/events/monthly-meeting-3rd-saturday/
SUMMARY:Monthly Meeting -- 3rd Saturday
DESCRIPTION:Boiler Law Alumni Association - Forged Under Pressure\, Proven 
 in Practice.\n\nEvent Description\n\nWe’re hosting the 3rd Saturday Afte
 rnoon Meeting (3rd Saturday of each month) for registered members. All cur
 rent students and alumni of Purdue Law are welcome! Hoping that this sched
 ule allows more alumni to come both on weeknights or weekends\, whichever 
 is best.\n\nTime: 3rd Saturday of the Month 2-3pm EST.\n\nLocation: Teams 
 Meeting https://teams.live.com/meet/9333239877726?p=K2VsFoCW8j3gY1AtPX\n\n
 Best regards\,\n\nAlex
ATTACH;FMTTYPE=image/jpeg:https://www.boilerlaw.org/wp-content/uploads/202
 5/10/BL_Org_Logo1-e1760022725718.png
CATEGORIES:monthly meeting
LOCATION:https://teams.live.com/meet/9333239877726?p=K2VsFoCW8j3gY1AtPX
END:VEVENT
BEGIN:VTIMEZONE
TZID:America/New_York
X-LIC-LOCATION:America/New_York
BEGIN:DAYLIGHT
DTSTART:20250309T030000
TZOFFSETFROM:-0500
TZOFFSETTO:-0400
TZNAME:EDT
END:DAYLIGHT
BEGIN:STANDARD
DTSTART:20251102T010000
TZOFFSETFROM:-0400
TZOFFSETTO:-0500
TZNAME:EST
END:STANDARD
BEGIN:DAYLIGHT
DTSTART:20260308T030000
TZOFFSETFROM:-0500
TZOFFSETTO:-0400
TZNAME:EDT
END:DAYLIGHT
BEGIN:STANDARD
DTSTART:20261101T010000
TZOFFSETFROM:-0400
TZOFFSETTO:-0500
TZNAME:EST
END:STANDARD
BEGIN:DAYLIGHT
DTSTART:20270314T030000
TZOFFSETFROM:-0500
TZOFFSETTO:-0400
TZNAME:EDT
END:DAYLIGHT
BEGIN:STANDARD
DTSTART:20271107T010000
TZOFFSETFROM:-0400
TZOFFSETTO:-0500
TZNAME:EST
END:STANDARD
BEGIN:DAYLIGHT
DTSTART:20280312T030000
TZOFFSETFROM:-0500
TZOFFSETTO:-0400
TZNAME:EDT
END:DAYLIGHT
END:VTIMEZONE
END:VCALENDAR