BEGIN:VCALENDAR
VERSION:2.0
PRODID:-//wp-events-plugin.com//7.2.3.1//EN
TZID:America/New_York
X-WR-TIMEZONE:America/New_York
BEGIN:VEVENT
UID:9@boilerlaw.org
DTSTART;TZID=America/New_York:20251112T150000
DTEND;TZID=America/New_York:20251112T160000
DTSTAMP:20251009T175215Z
URL:https://www.boilerlaw.org/events/effective-client-communication-cle/
SUMMARY:Effective Client Communication - CLE
DESCRIPTION:Purdue Law CLE - Effective Client Communication with Kelley Mau
 erman\, Associate Dean of Experiential Learning\, and Professor Sheri Denn
 is.\nWednesday\, November 12\n12:00 p.m. PT/3:00 p.m. ET
ATTACH;FMTTYPE=image/jpeg:https://www.boilerlaw.org/wp-content/uploads/202
 5/10/pexels-markus-winkler-1430818-18477119-scaled.jpg
CATEGORIES:cle
LOCATION:https://a17pf.r.sp1-brevo.net/mk/cl/f/sh/1t6Af4OiGsF4YQDRxa0MA192n
 JSt8v/PnqgYsbyCCNq
END:VEVENT
BEGIN:VTIMEZONE
TZID:America/New_York
X-LIC-LOCATION:America/New_York
BEGIN:STANDARD
DTSTART:20251102T010000
TZOFFSETFROM:-0400
TZOFFSETTO:-0500
TZNAME:EST
END:STANDARD
END:VTIMEZONE
END:VCALENDAR