BEGIN:VCALENDAR
VERSION:2.0
PRODID:-//wp-events-plugin.com//7.2.3.1//EN
TZID:America/New_York
X-WR-TIMEZONE:America/New_York
BEGIN:VEVENT
UID:10@boilerlaw.org
DTSTART;TZID=America/New_York:20251031T150000
DTEND;TZID=America/New_York:20251031T150000
DTSTAMP:20251009T175201Z
URL:https://www.boilerlaw.org/events/colonial-era-witchcraft-trials-and-th
 eir-legacy-cle/
SUMMARY:Colonial Era Witchcraft Trials and Their Legacy - CLE
DESCRIPTION:"Salem’s Lot" and the Rest of America’s\, Too: Colonial Era
  Witchcraft Trials and Their Legacy with Professor Howard Anderson.\nFrida
 y\, October 31\n12:00 p.m. PT/3:00 p.m. ET\n&nbsp\;
ATTACH;FMTTYPE=image/jpeg:https://www.boilerlaw.org/wp-content/uploads/202
 5/10/pexels-markus-winkler-1430818-18477119-scaled.jpg
CATEGORIES:cle
LOCATION:https://a17pf.r.sp1-brevo.net/mk/cl/f/sh/1t6Af4OiGsEcDi11ZDuQzl5DP
 UU9Qr/C6nw8aHOF_oq
END:VEVENT
BEGIN:VTIMEZONE
TZID:America/New_York
X-LIC-LOCATION:America/New_York
BEGIN:DAYLIGHT
DTSTART:20250309T030000
TZOFFSETFROM:-0500
TZOFFSETTO:-0400
TZNAME:EDT
END:DAYLIGHT
END:VTIMEZONE
END:VCALENDAR